BEGIN:VCALENDAR
VERSION:2.0
PRODID:-//無影無蹤｜影評推薦・電影專題・影展觀察 - ECPv6.15.20//NONSGML v1.0//EN
CALSCALE:GREGORIAN
METHOD:PUBLISH
X-ORIGINAL-URL:https://nofilmnome.com
X-WR-CALDESC:Events for 無影無蹤｜影評推薦・電影專題・影展觀察
REFRESH-INTERVAL;VALUE=DURATION:PT1H
X-Robots-Tag:noindex
X-PUBLISHED-TTL:PT1H
BEGIN:VTIMEZONE
TZID:Asia/Shanghai
BEGIN:STANDARD
TZOFFSETFROM:+0800
TZOFFSETTO:+0800
TZNAME:CST
DTSTART:20210101T000000
END:STANDARD
END:VTIMEZONE
BEGIN:VTIMEZONE
TZID:Asia/Taipei
BEGIN:STANDARD
TZOFFSETFROM:+0800
TZOFFSETTO:+0800
TZNAME:CST
DTSTART:20210101T000000
END:STANDARD
END:VTIMEZONE
BEGIN:VEVENT
DTSTART;TZID=Asia/Shanghai:20221210T160000
DTEND;TZID=Asia/Shanghai:20221210T180000
DTSTAMP:20260423T074117
CREATED:20221207T040000Z
LAST-MODIFIED:20250723T043934Z
UID:4132-1670688000-1670695200@nofilmnome.com
SUMMARY:活動|歐洲影展「遷徙的人：從電影思索難民處境」專題講座
DESCRIPTION:活動資訊\n\n\n\n\n主辦單位：中山73影視藝文空間\n\n\n\n時間：12／10（六）16：00\n\n\n\n地點：中山73影視藝文空間 1樓展演空間（臺中市中區中山路73號）\n\n\n\n講者：翁煌德\n\n\n\n\n\n活動報名\n\n\n\n\n\n\n\n\n講座介紹\n\n\n\n卡達世足賽開踢，平常對歐洲文化與足球體壇不盡了解的粉絲，大概都會很驚訝過去印象中「很白」的國家之中，有著各種不同膚色的面孔。這可不是砸錢找傭兵，其實近數十年來，北非、西亞的人道危機頻傳，許多難民都前往歐洲尋求機會。這些國家隊成員的組成不僅象徵了該國更多元的面貌，也宣示了他們對這些新住民的真摯接納。 \n\n\n\n只是這當中自然也存在隱憂，隨著近年歐洲右派興起，許多民族主義者總是將社會治安問題歸咎於難民身上，也因此造成不少悲劇。在本屆歐洲影展之中，雖然每一國僅有一部片做為代表，但有不少作品不約而同聚焦在難民處境身上，這說明了這項命題依然是歐洲當下最迫切的困局，而在俄國與烏克蘭鏖戰正酣之際，亦造成不少難民從東歐移轉至中、西歐國家，代表這不僅限於現在，也在未來持續影響歐洲內部的秩序。 \n\n\n\n而對我來說最有趣的是，看從什麼角度來切入談難民議題，大致可以理解這些國度對此題的見解。例如來自波蘭、故事背景設定在義大利的劇情片《她的危險宣言 Dolce Fine Giornata》（2019），所講述的是諾貝爾獎得主瑪莉亞在一場發生於羅馬的恐怖攻擊之後，公開地對反移民言論表達斥責，甚至暗示恐攻有著藝術行動的本質。結果此說造成了難以挽回的後果，他的埃及裔男友也遭受波及。 \n\n\n\n\n\n《她的危險宣言 Dolce Fine Giornata》（2019）電影預告\n\n\n\n因為導演是站在瑪莉亞的觀點來敘述故事，觀者自然能理解她所代表的立場，只是這番危險的宣言，卻遭到社會嚴厲的指責與曲解，我們所看到的是一個公然與主流輿論相左的思想家所面臨的窘況。本片就美學表現上最具水準，同時也可以感受到導演借義大利來折射波蘭的用意，這兩個國家都是對難民最不友善的國家，創作者以該作促求反思的意圖很明確。 \n\n\n\n來自丹麥的紀錄片《以愛為家 Love Child》（2019）的切入角度頗為特別，也非常值得與當下國際情勢對照。片初，我們以為自己看到的是一對相愛的夫妻與獨子在土耳其的流亡生活，殊不知原來兩人分別背棄了自己的另一半逃離伊朗，孩子確是兩人結晶，但小朋友事前卻不知道原來可親的「叔叔」竟是自己真正的父親，直到連夜被媽媽帶走才知道真相。 \n\n\n\n\n\n《以愛為家 Love Child》（2019）電影預告\n\n\n\n透過世俗角度，很容易出言批判兩人不道德。但這也是這部紀錄片最可觀的地方，透過讓觀眾看到他們完全人性的一面，你會更理解他們的真情與苦衷，剛好映照今年伊朗的阿米尼示威，觀者更會理解兩人選擇離家的緣由。作品沒有太多「丹麥性」，但卻是一部不折不扣的丹麥作品，這已經不是丹麥導演第一次拍攝無關本國的人道主義作品，也說明了這個國家對難民的關懷已經脫離了必須與自己有關的層次，而是將視野伸向其它地域，表現出更普世的人權關注。 \n\n\n\n來自德國的《離散的姐妹 Sisters Apart》（2020）也是同理。在梅克爾（Angela Merkel）執政時期，百萬難民獲得接收，這不代表難民就會受到與本地人完全一樣的待遇，但從這部片的敘事角度來看，難民權的探討已非主線，而是將視角延伸到中東地區，即造成難民問題的根源。主角蘿佳得知妹妹仍在庫德斯坦對抗敵軍，於是請命調到當地尋找手足下落。 \n\n\n\n\n\n《離散的姐妹 Sisters Apart》（2020）電影預告\n\n\n\n因此故事主要背景皆設定在庫德斯坦，這個目前仍無法自立建國的國家。姊妹的離散也象徵了庫德族人的分離，目前庫德斯坦的領土跨越了土耳其、伊拉克、伊朗和敘利亞四個國家，全球有三千萬名庫德人也分散在德國、法國等歐陸國家。如果觀者對於一對姊妹的分散的故事感到同理，那大概也能理解這個民族長期遭到各個政治勢力版圖分割的悲慘處境。對難民議題已能成熟面對的德國，也提供給了觀者一個難能可貴的角度。​本屆歐洲影展尚有多部國家的精彩佳作，你或許對英國、法國電影感到熟悉，但是大概不容易有機會看見來自斯洛伐克、盧森堡、匈牙利等國的觀點。除了觀賞熱血沸騰的世足賽，歐洲影展絕對是一個更能讓觀者開闊視野、也更具深度性的平台，千萬不容錯過。
URL:https://nofilmnome.com/event/zs73filmsymposium-20221210/
LOCATION:中山73影視藝文空間\, 臺中市中區中山路73號\, 400
ATTACH;FMTTYPE=image/jpeg:https://nofilmnome.com/wp-content/uploads/2022/12/Dolce-Fine-Giornata.jpeg
ORGANIZER;CN="%E4%B8%AD%E5%B1%B173%E5%BD%B1%E8%A6%96%E8%97%9D%E6%96%87%E7%A9%BA%E9%96%93":MAILTO:tfdf2016@gmail.com
END:VEVENT
BEGIN:VEVENT
DTSTART;TZID=Asia/Shanghai:20221209T193000
DTEND;TZID=Asia/Shanghai:20221209T220000
DTSTAMP:20260423T074117
CREATED:20221130T130037Z
LAST-MODIFIED:20250528T114021Z
UID:4109-1670614200-1670623200@nofilmnome.com
SUMMARY:活動|梅花鹿影展：《小地方》\,《永別》 放映+導演座談
DESCRIPTION:活動資訊\n\n\n\n\n主辦單位：梅花鹿影業、無影無蹤\n\n\n\n時間：12／9（五）19：30 開演\n\n\n\n地點：梅花鹿影業（民生東路五段69巷2弄7號1樓）\n\n\n\n放映影片和出席影人：\n\n\n\n\n\n《小地方》──劉家欣（導演）《永別》──歐崇安（導演） \n\n\n\n\n\n本場分級：輔15級\n\n\n\n\n\n活動報名\n\n\n\n\n\n\n\n\n\n\n影片介紹\n\n\n\n《小地方 Little Place》（2022）電影劇照\n\n\n\n《小地方 Little Place》（2022）\n\n\n\n\n導演：劉家欣\n\n\n\n編劇：劉家欣\n\n\n\n主演：魏欣姸、徐靜芳、梁修身、馬汀尼\n\n\n\n參展、獲獎紀錄：\n\n\n\n\n\n☆22\, 金穗獎一般組最佳劇情片提名 \n\n\n\n\n\n簡介：\n\n\n\n\n曉君，一個遊走全球各地工作的女子。彼時，她回到了最熟悉的家鄉、過去最熟稔的永和街道，卻發現自己已然迷失了方位。 \n\n\n\n曾以《凡凡》（2015）入選克萊蒙費宏影展國際競賽的新銳導演劉家欣再次以女性故事為軸，隱隱道出台灣數十年來的城鄉流變與人心轉換，辯證了現實所見與看似虛妄的記憶。看似是「小地方」，卻又審視大局的野心。影評人陳平浩指出電影有著楊德昌之風。 \n\n\n\n\n\n《小地方 Little Place》（2022）電影預告\n\n\n\n\n\n\n\n《永別 Part Forever》（2021）電影劇照\n\n\n\n《永別 Part Forever》（2021）\n\n\n\n\n導演：歐崇安\n\n\n\n編劇：歐崇安、萬君玲\n\n\n\n主演：楊閔、李想、楊宗昇、王韻涵\n\n\n\n參展、獲獎紀錄：\n\n\n\n\n\n☆21\, 錫切斯影展正式競賽☆21\, 高雄電影節☆22\, 比利時布魯塞爾國際奇幻影展☆23\, 法國克萊蒙費宏短片國際影展 \n\n\n\n\n\n簡介：\n\n\n\n\n鬼影幢幢的深夜，姊姊與先生前去悼念摯愛的妹妹。她對著冷冰冰的遺體大表衷情，卻暗地裡似乎別有所思。閃爍的微光暗示著人心的叵測，不可告人秘密隨之揭露。 \n\n\n\n本片為近兩年在獲得最多國際矚目的台灣驚悚奇作之一，在極具權威性的西班牙錫切斯影展也獲選進入正式競賽單元。導演歐崇安在極短篇幅之內創造迷人而驚悚的妖變氛圍，一眾演員的淒厲演出似乎也賦予了這部作品一種Cult（邪典）神采，風格特異，驚喜不斷。 \n\n\n\n\n\n《永別 Part Forever》（2021）電影預告\n\n\n\n\n\n\n\n限定參加人數：40人（越早報名越有機會報名成功喲！）\n報名費：150元（含影人出席費、場地使用費和飲料費用）\n\n\n\n活動流程\n\n\n\n19：00～19：30 進場時間19：30～19：57《小地方》放映19：57～20：02 休息時間20：02～20：15《永別》放映20：15～22：00 映後講座、Q&A、交流
URL:https://nofilmnome.com/event/sika-film-festival-20221209/
LOCATION:梅花鹿影業\, 台北市松山區民生東路五段69巷2弄7號
CATEGORIES:梅花鹿影展
ATTACH;FMTTYPE=image/jpeg:https://nofilmnome.com/wp-content/uploads/2022/12/Little-Place.jpeg
ORGANIZER;CN="%E7%84%A1%E5%BD%B1%E7%84%A1%E8%B9%A4":MAILTO:wonder_wong1029@yahoo.com.tw
END:VEVENT
BEGIN:VEVENT
DTSTART;TZID=Asia/Shanghai:20221125T193000
DTEND;TZID=Asia/Shanghai:20221125T220000
DTSTAMP:20260423T074117
CREATED:20221115T130000Z
LAST-MODIFIED:20250528T114039Z
UID:3923-1669404600-1669413600@nofilmnome.com
SUMMARY:活動|梅花鹿影展：《殺青》\,《陀陀》 放映+導演座談
DESCRIPTION:活動資訊\n\n\n\n\n主辦單位：梅花鹿影業、無影無蹤\n\n\n\n時間：11／25（五）19：30 開演\n\n\n\n地點：梅花鹿影業（民生東路五段69巷2弄7號1樓）\n\n\n\n放映影片和出席影人：\n\n\n\n\n\n《殺青》──林亮君（導演）《陀陀》──朱建安（導演） \n\n\n\n\n\n本場分級：輔15級\n\n\n\n\n\n活動報名\n\n\n\n\n\n\n\n\n\n\n影片介紹\n\n\n\n《殺青 Still Rolling》（2021）電影劇照\n\n\n\n《殺青 Still Rolling》（2021）\n\n\n\n\n導演：林亮君\n\n\n\n編劇：林亮君\n\n\n\n主演：洪佳珣、顧一凝、張繼忠、王杰生\n\n\n\n參展、獲獎紀錄：\n\n\n\n\n\n☆21\, 聖地牙哥國際影展☆21\, 洛杉磯亞太影展☆22\, 亞美人國際影展 \n\n\n\n\n\n簡介：\n\n\n\n\nKTV包廂裡，整個劇組熱鬧歡騰，唯獨小青格格不入，過去拍攝的經歷一一浮上腦海。勸酒聲此起彼落，她發現工作夥伴更重視的不單純只是她的技術與才華。要不低頭服從，要不反抗掉頭，帶有著電影夢的菜鳥小青必須做出她人生最關鍵的決定。 \n\n\n\n曾以《亡牌前女友》（2018）入圍金穗獎的林亮君在赴美進修之後，以新作《殺青》充分展現了她傑出的調度能力，透過短篇幅描寫一個女性在影視職場所面臨的沉重壓力。理應歡欣的殺青酒似乎象徵著殘酷的成人禮，情節值得深省，似是對#MeToo運動的議論與呼應。 \n\n\n\n\n\n《殺青 Still Rolling》（2021）電影預告\n\n\n\n\n\n\n\n《陀陀 Tuo Tuo》（2022）電影劇照\n\n\n\n《陀陀 Tuo Tuo》（2022）\n\n\n\n\n導演：朱建安\n\n\n\n編劇：朱建安\n\n\n\n主演：黃遠、陳文彬、謝瓊煖、胡智強\n\n\n\n參展、獲獎紀錄：\n\n\n\n\n\n☆22\, 台北電影節☆22\, 高雄電影節臺灣組臺灣學生獎☆22\, 英國美學短片影展 \n\n\n\n\n\n簡介：\n\n\n\n\n正在服役的阿海在收假期間回家中鹿場幫忙，看著遭到斷角的鹿、甕裡的酒，呼吸著空氣中的血味，童年回憶隨之喚起。 \n\n\n\n才氣縱橫的導演朱建安將敘事簡化，難分虛實的夢境與回憶令人沉醉，傑出的攝影風格與配樂烘托，帶出角色最真切的心理狀態。曾在金鐘獎封帝的黃遠難得跨刀短片演出，一改過去表演風格，展現出壓抑與內斂的沉穩性，能量過人。知名影評人Ryan鄭秉泓老師更忘情大讚：「這部短片每個畫面都讓我讚嘆、令我沉醉。」 \n\n\n\n\n\n《陀陀 Tuo Tuo》（2022）電影預告\n\n\n\n\n\n\n\n限定參加人數：40人（越早報名越有機會報名成功喲！）\n報名費：150元（含影人出席費、場地使用費和飲料費用）\n\n\n\n活動流程\n\n\n\n19：00～19：30 進場時間19：30～19：44《陀陀》放映19：44～19：49 休息時間19：49～20：08《殺青》放映20：08～22：00 映後講座、Q&A、交流
URL:https://nofilmnome.com/event/sika-film-festival-20221125/
LOCATION:梅花鹿影業\, 台北市松山區民生東路五段69巷2弄7號
CATEGORIES:梅花鹿影展
ATTACH;FMTTYPE=image/jpeg:https://nofilmnome.com/wp-content/uploads/2022/11/Still-Rolling.jpg
ORGANIZER;CN="%E7%84%A1%E5%BD%B1%E7%84%A1%E8%B9%A4":MAILTO:wonder_wong1029@yahoo.com.tw
END:VEVENT
BEGIN:VEVENT
DTSTART;TZID=Asia/Shanghai:20221028T193000
DTEND;TZID=Asia/Shanghai:20221028T223000
DTSTAMP:20260423T074117
CREATED:20221019T130000Z
LAST-MODIFIED:20250528T114107Z
UID:3872-1666985400-1666996200@nofilmnome.com
SUMMARY:活動|梅花鹿影展：《洋裝》\,《牽亡》 放映+導演座談
DESCRIPTION:活動資訊\n\n\n\n\n主辦單位：梅花鹿影業、無影無蹤\n\n\n\n時間：10／28（五）19：30 開演\n\n\n\n地點：梅花鹿影業（民生東路五段69巷2弄7號1樓）\n\n\n\n放映影片和出席影人：\n\n\n\n\n\n《洋裝》──施方婷（導演）《牽亡》──胡博登（導演） \n\n\n\n\n\n本場分級：輔15級\n\n\n\n\n\n活動報名\n\n\n\n\n\n\n\n\n\n\n影片介紹\n\n\n\n《洋裝 The Dress》（2022）電影劇照\n\n\n\n《洋裝 The Dress》（2022）\n\n\n\n\n導演：施方婷\n\n\n\n編劇：施方婷\n\n\n\n主演：謝岫庭、林澤凱、林士閔、黃遷秝\n\n\n\n參展、獲獎紀錄：\n\n\n\n\n\n☆22\, 台北電影節☆22\, 首爾國際女性影展☆22\, 兩岸青年影展 \n\n\n\n\n\n簡介：\n\n\n\n\n在這一家性愛娃娃體驗館裡，無數寂寞的靈魂得以覓得慰藉，不過在此服務的女孩文琪卻發現其中一個客人的行為特別反常，這位「嫖客」總是在完事之後為娃娃穿上一件紅色的洋裝。她抑制不住自己的遐想與慾望，決定涉險尋求解答。 \n\n\n\n少有一部片能出色的將對性與愛的渴望，與涉及險境的懸疑感如此精妙的相互結合，導演施方婷的狂想與創見令人無法猜到最後的故事發展，有金基德早期作品之風。擔綱主演的謝岫庭不顧演出尺度，完滿圓熟地詮釋了女性的情與慾，表演令人驚艷。 \n\n\n\n\n\n《洋裝 The Dress》（2022）電影預告\n\n\n\n\n\n\n\n《牽亡 The Last Journey》（2021）\n\n\n\n《牽亡 The Last Journey》（2021）\n\n\n\n\n導演：胡博登\n\n\n\n編劇：胡博登、李建宏\n\n\n\n主演：廖欽亮、汪政緯、劉明勳\n\n\n\n參展、獲獎紀錄：\n\n\n\n\n\n☆22\, 青春影展影視類優選獎☆22\, 南方影展南方影像獎提名 \n\n\n\n\n\n簡介：\n\n\n\n\n頭七的前一晚，阿登的大伯明龍依照習俗會引領牽亡歌陣為亡者指路。相較不務正業的父親，阿登更把親切照顧他的大伯當作父親看待。某天，飽受挫折的他遇上了正在演出的牽亡歌陣，他似乎意識到追隨著大伯是他唯一的出路。 \n\n\n\n本片是罕見以牽亡習俗為主題的作品，導演胡博登對此下盡工夫，在牽亡歌陣的表現足以令觀眾感到驚嘆。故事發展亦令人難料，深刻地創造出了台灣式的魔幻寫實。飾演大伯的廖欽亮以穩健演出壓場，使得作品更具說服力。 \n\n\n\n\n\n《牽亡 The Last Journey》（2021）電影預告\n\n\n\n\n\n\n\n限定參加人數：40人（越早報名越有機會報名成功喲！）\n報名費：150元（含影人出席費、場地使用費和飲料費用）\n\n\n\n活動流程\n\n\n\n19：00～19：30 進場時間 19：30～20：04《牽亡》放映 20：04～20：14 休息時間20：14～20：43《洋裝》放映20：43～22：15 映後講座、Q&A、交流 \n\n\n\n\n\n\n\n活動後記\n\n\n\n梅花鹿影展：《洋裝》\,《牽亡》 放映+導演座談\n\n\n\n上週五，由無影無蹤與梅花鹿影業合作的梅花鹿影展，榮幸邀請到兩部優秀的短片作品，分別是施方婷執導的《洋裝》和胡博登執導的《牽亡》，其中兩部作品的演員皆有出席，包括《洋裝》的兩位主角謝岫庭與林澤凱，以及在《牽亡》片中飾演大伯的「亮哥」廖欽亮。 \n\n\n\n《洋裝》是來自北京電影學院的施方婷自資拍攝的作品，她說自己其實並沒有對深入訪查充氣娃娃體驗館，但透過相關的報導，已經能夠足以構築出符合心中所想的世界，對她而言這部作品的目的之一就是要打破對女性物化的成見，因為片中寂寞的主人翁正是自願被物化，她希望藉此帶來新的對話。為了找到合適的「充氣娃娃」，劇組也花費不少苦心，所幸工廠願意出借她瑕疵品來使用，讓電影中節省不少成本。 \n\n\n\n談到兩位演員的合作，女主角謝岫庭談到了當時在導演的指示之下，以角色的身分與林澤凱進行交換日記，兩人首次見面正是實際對戲當日，兩人都承認這樣有助於兩人保有陌生感。選擇的林澤凱原因也相當有趣，施方婷說她辦了一場試鏡會，心中設定是誰能夠跟充氣娃娃對話，就要選誰出演，結果一直到她幾乎放棄時，最後一個試鏡的澤凱完美符合她想像，他真的自顧自地跟充氣娃娃聊起天來。 \n\n\n\n胡博登談起《牽亡》的創作，他坦承故事的主人翁完全是自己的真實寫照，為了讓作品能夠完美呈現牽亡歌陣這個已然消逝的傳統，他找上了林宗範老師學習最古典的牽亡一是，拒絕採用結合現代的花俏變體（例如結合流行音樂的牽亡）。不過由於他實在太晚才敲定演員，拍攝差點開天窗，所幸亮哥緊急支援。亮哥承認自己起先深怕演不好，並不是很情願，但在導演的真心求助之下，他還是點頭參演，也盡力做好準備，最後也給予了觀眾深具說服力的演出。 \n\n\n\n三位演員目前都有持續的作品問世，其中林澤凱與亮哥最近才有合作，在現場相見歡。兩位導演也依然不懈堅持創作，作品也依然還有放映機會，其中影展跑到尾聲的《牽亡》將在南方影展放映，而《洋裝》肯定在明年影展能夠大有斬獲。 \n\n\n\n最後，誠摯感謝這次兩部作品的導演、演員們的支持，與不畏大雨來訪的各位影迷朋友，當然更要感謝梅花鹿影業的鼎力協作。活動將會繼續，期待下個月底、金馬獎後再與各位相會！
URL:https://nofilmnome.com/event/sika-film-festival-20221028/
LOCATION:梅花鹿影業\, 台北市松山區民生東路五段69巷2弄7號
CATEGORIES:梅花鹿影展
ATTACH;FMTTYPE=image/jpeg:https://nofilmnome.com/wp-content/uploads/2022/11/The-Dress.jpeg
ORGANIZER;CN="%E7%84%A1%E5%BD%B1%E7%84%A1%E8%B9%A4":MAILTO:wonder_wong1029@yahoo.com.tw
END:VEVENT
BEGIN:VEVENT
DTSTART;TZID=Asia/Shanghai:20220930T193000
DTEND;TZID=Asia/Shanghai:20220930T220000
DTSTAMP:20260423T074117
CREATED:20220915T040000Z
LAST-MODIFIED:20250528T114133Z
UID:3849-1664566200-1664575200@nofilmnome.com
SUMMARY:活動|梅花鹿影展：《吃葡萄不吐葡萄皮》\,《啊朋友，再見！》放映+導演座談
DESCRIPTION:活動資訊\n\n\n\n主辦單位：梅花鹿影業、無影無蹤時間：9／30（五）19：30 開演地點：梅花鹿影業（民生東路五段69巷2弄7號1樓）放映影片和出席影人：\n\n\n\n《吃葡萄不吐葡萄皮》──林㵟芝（導演）《啊朋友，再見！》──范文翰（導演） \n\n\n\n本場分級：普遍級\n\n\n\n\n活動報名\n\n\n\n\n\n\n\n\n\n\n影片介紹\n\n\n\n《啊朋友，再見！ Farewell\, My Lovely》（2021）電影劇照\n\n\n\n《啊朋友，再見！ Farewell\, My Lovely》（2021）\n\n\n\n導演：范文翰編劇：范文翰主演：陳飛宏、葉港、Tharida Varathitikul、洪靖安參展、獲獎紀錄：\n\n\n\n☆21\, 金穗獎評審團特別獎☆22\, 關渡電影節 \n\n\n\n簡介：\n\n\n\n停車場夜間保全志明意外救了意圖自殺的青年阿堯，阿堯因此暫時打消了步向死亡念頭，並允諾完成志明的一項心願。 \n\n\n\n曾榮獲FIRST青年電影展學生單元最佳劇情片的導演范文翰將本片獻給他的好友、已故導演胡波，他抽去了人物的面部情感，還要求眾角色們道出有些浮誇與激昂的文學性對白，儘管看似除去了寫實的人情面貌，但荒謬性的呈現卻意外地更顯情濃意重，有著阿基．郭利斯馬基（Aki Kaurismäki）之作般的稀有質地。 \n\n\n\n\n\n《啊朋友，再見！ Farewell\, My Lovely》（2021）電影預告\n\n\n\n\n\n\n\n《吃葡萄不吐葡萄皮 Eating Grapes without Spitting Out the Skin》（2022）電影劇照\n\n\n\n《吃葡萄不吐葡萄皮 Eating Grapes without Spitting Out the Skin》（2022）\n\n\n\n導演：林㵟芝編劇：林㵟芝主演：張稜、陳季霞、黃惠卿、邱兆梅參展、獲獎紀錄：\n\n\n\n☆22\, 台北電影節 ☆22\, 高雄電影節台灣競賽 ☆22\, 南方影展南方學生獎提名 \n\n\n\n簡介：\n\n\n\n配音員瑋瑋職途不順，客戶處處刁難。不過一筆意外之財讓她振作了起來，問題是這可是她父親生前的借款，換言之她得先討到錢才有得花，偏偏對方百般裝瘋賣傻，看來這場討債躲債大鬥法，得看誰涎皮賴臉的功力比較高。 \n\n\n\n近年難得優質的爆笑喜劇類型，沒有什麼多餘的人文關懷與形式美學，單純以好演技與好笑點決勝負，成績斐然。劇場出身的女主角張稜更以極其自然而生動的演出扛起全片，鋒芒有如台灣版菲比．沃勒-布里奇（Phoebe Waller-Bridge）。 \n\n\n\n\n\n《吃葡萄不吐葡萄皮 Eating Grapes without Spitting Out the Skin》（2022）電影預告\n\n\n\n\n\n\n\n限定參加人數：40人（越早報名越有機會報名成功喲！）\n報名費：150元（含影人出席費、場地使用費和飲料費用）\n\n\n\n活動流程\n\n\n\n19：00～19：30 進場時間19：30～19：50《吃葡萄不吐葡萄皮》放映 19：50～20：00 休息時間 20：00～20：30《啊朋友，再見！》放映20：30～22：00 映後講座、Q&A、交流
URL:https://nofilmnome.com/event/sika-film-festival-20220930/
LOCATION:梅花鹿影業\, 台北市松山區民生東路五段69巷2弄7號
CATEGORIES:梅花鹿影展
ATTACH;FMTTYPE=image/jpeg:https://nofilmnome.com/wp-content/uploads/2022/10/Eating-Grapes-without-Spitting-Out-the-Skin.jpeg
ORGANIZER;CN="%E7%84%A1%E5%BD%B1%E7%84%A1%E8%B9%A4":MAILTO:wonder_wong1029@yahoo.com.tw
END:VEVENT
BEGIN:VEVENT
DTSTART;TZID=Asia/Shanghai:20220819T193000
DTEND;TZID=Asia/Shanghai:20220819T220000
DTSTAMP:20260423T074117
CREATED:20220812T122642Z
LAST-MODIFIED:20250528T114236Z
UID:3667-1660937400-1660946400@nofilmnome.com
SUMMARY:活動|梅花鹿影展：《命中註定那頭鵝》\,《綁架》放映+導演座談
DESCRIPTION:活動資訊\n\n\n\n主辦單位：梅花鹿影業、無影無蹤時間：8／19（五）19：30 開演地點：梅花鹿影業（民生東路五段69巷2弄7號1樓）放映影片和出席影人：\n\n\n\n《命中註定那頭鵝》──楊宥瑜（導演）《綁架》──洪子烜（導演） \n\n\n\n本場分級：普遍級\n\n\n\n\n活動報名\n\n\n\n\n\n\n\n\n\n\n影片介紹\n\n\n\n《綁架 Kidnapped》（2021）\n\n\n\n《綁架 Kidnapped》（2021）\n\n\n\n導演：洪子烜編劇：洪子烜主演：林柏宏參展、獲獎紀錄：\n\n\n\n☆22\, 高雄電影節 \n\n\n\n簡介：\n\n\n\n一名繪本作家一覺醒來發現自己受困在一個密閉的狹小空間之中。這是一個玩笑？還是一個精心策劃的報復行動？ \n\n\n\n概念有如萊恩雷諾斯（Ryan Reynolds）主演的《活埋 Buried》（2010），但故事寓意卻是朝向另一個方向走。曾以動作片《狂徒》（2018）提名金馬獎最佳新導演的洪子烜再次出手，竟揚棄武打施展空間，將影星林柏宏置放在一個有限空間之中，讓他僅能憑藉眉宇與聲音演出，極富張力的解謎過程令人驚喜。 \n\n\n\n\n\n《綁架 Kidnapped》（2021）電影預告\n\n\n\n\n\n\n\n《命中註定那頭鵝Penguin Girl》（2022）\n\n\n\n《命中註定那頭鵝Penguin Girl》（2022）\n\n\n\n導演：楊宥瑜編劇：楊宥瑜主演：詹懷雲、林思廷、納豆、洪群鈞參展、獲獎紀錄：\n\n\n\n☆22\, 金穗獎一般組最佳劇情片提名☆22\, 日本東京國際短片影展亞洲競賽單元入圍 \n\n\n\n簡介：\n\n\n\n農會之花月鵝對企鵝有著近乎瘋狂的執迷，當她在路上遇見身穿企鵝裝的何德利之後，深深相信這絕對是命中注定的相遇，下定決心死纏爛打也要「求偶」成功。 \n\n\n\n日本有瘋狂愛上水母的《海月姬》倉下月海，台灣也有狂愛企鵝的少女月鵝。自美國電影學院留學歸國的導演楊宥瑜帶給了有別於台灣以往類型的奇想愛情之作，創造了一個有別於現實的奇趣角色，飾演月鵝的林思廷古靈精怪的詮釋為作品大大增色，當年以《行動代號：孫中山》出道的詹懷雲也令人耳目一新。 \n\n\n\n\n\n《命中註定那頭鵝Penguin Girl》（2022）電影預告\n\n\n\n\n\n\n\n限定參加人數：40人（越早報名越有機會報名成功喲！）\n報名費：150元（含影人出席費、場地使用費和飲料費用）\n\n\n\n活動流程\n\n\n\n19：00～19：30 進場時間19：30～20：00《綁架》放映 20：00～20：05 休息時間 20：05～20：20《命中註定那頭鵝》放映 20：20～22：00 映後講座、Q&A、交流
URL:https://nofilmnome.com/event/sika-film-festival-20220819/
LOCATION:梅花鹿影業\, 台北市松山區民生東路五段69巷2弄7號
CATEGORIES:梅花鹿影展
ATTACH;FMTTYPE=image/jpeg:https://nofilmnome.com/wp-content/uploads/2022/08/Kidnapped.jpeg
ORGANIZER;CN="%E7%84%A1%E5%BD%B1%E7%84%A1%E8%B9%A4":MAILTO:wonder_wong1029@yahoo.com.tw
END:VEVENT
BEGIN:VEVENT
DTSTART;TZID=Asia/Shanghai:20220715T193000
DTEND;TZID=Asia/Shanghai:20220715T220000
DTSTAMP:20260423T074117
CREATED:20220708T040000Z
LAST-MODIFIED:20250528T114631Z
UID:3627-1657913400-1657922400@nofilmnome.com
SUMMARY:活動|梅花鹿影展：《犁田少年》\,《小狗遊戲》放映+導演座談
DESCRIPTION:活動資訊\n\n\n\n主辦單位：梅花鹿影業、無影無蹤時間：7／15（五）19：30 開演地點：梅花鹿影業（民生東路五段69巷2弄7號1樓）放映影片和出席影人：\n\n\n\n《小狗遊戲》──吳翰林（導演）《犁田少年》──林沛晴（導演） \n\n\n\n本場分級：普遍級\n\n\n\n\n活動報名\n\n\n\n\n\n\n\n\n\n\n影片介紹\n\n\n\n《小狗遊戲 A Longing Boy》（2020）\n\n\n\n《小狗遊戲 A Longing Boy》（2020）\n\n\n\n導演：吳翰林編劇：吳翰林主演：吳至璿、鍾宸翃、Q米\n\n\n\n簡介：兩個國中少男在小巷裡遇上一隻流浪狗。阿愷想養，但媽媽不讓，最後狗去了阿澤家，牠被命名為Q米。愛狗心切的阿愷大失所望，掩藏不住內心的妒忌與憤恨，終於決定鋌而走險⋯⋯。看似是兩個男孩爭奪一隻狗，卻越看越覺得充滿解讀空間，狗或許只是一個象徵存在，而為了他／她／牠／它的爭奪而高漲的情緒，卻再也具體不過。曾主演《拉格朗日什麼辦法》（2019）等作、演而優則導的吳翰林無論對敘事節奏與表演的拿捏得當。巷弄戲的出色處理，亦獲影評人陳平浩聲讚，稱其調度有如陳果的《細路祥》（1999）。\n\n\n\n預告片：https://www.facebook.com/watch/?v=671251293603329 \n\n\n\n\n\n\n\n《犁田少年 Between Farmlands》（2022）電影劇照\n\n\n\n《犁田少年 Between Farmlands》（2022）\n\n\n\n導演：林沛晴編劇：林沛晴主演：潘親御、高浚銨、張怡庭、陳彥佐參展、獲獎紀錄：\n\n\n\n☆22\, 青春影展☆22\, 螺絲起子國際學生短片影展 \n\n\n\n簡介：高中生國聖準備填寫志願，不過對阿公的牽掛卻使他猶豫不決。究竟要前往北部讀書，抑或繼續留在鄉間？導演林沛晴以自身的鄉下生活經驗為主軸，細膩地灌注了人與景物適切的風貌，情意深遠。看似平俗的祖孫情故事，在潘親御的出色詮釋之下，似乎也有了鮮豔的生命力。\n\n\n\n\n\n《犁田少年 Between Farmlands》（2022）電影預告\n\n\n\n\n\n\n\n限定參加人數：40人（越早報名越有機會報名成功喲！）\n報名費：150元（含影人出席費、場地使用費和飲料費用）\n\n\n\n活動流程\n\n\n\n19：00～19：30 進場時間19：30～20：00《犁田少年》放映20：00～20：05 休息時間20：05～20：20《小狗遊戲》放映20：20～22：00 映後講座、Q&A、交流
URL:https://nofilmnome.com/event/sika-film-festival-20220715/
LOCATION:梅花鹿影業\, 台北市松山區民生東路五段69巷2弄7號
CATEGORIES:梅花鹿影展
ATTACH;FMTTYPE=image/jpeg:https://nofilmnome.com/wp-content/uploads/2022/07/with-my-dog.jpeg
ORGANIZER;CN="%E7%84%A1%E5%BD%B1%E7%84%A1%E8%B9%A4":MAILTO:wonder_wong1029@yahoo.com.tw
END:VEVENT
BEGIN:VEVENT
DTSTART;TZID=Asia/Taipei:20220625T190000
DTEND;TZID=Asia/Taipei:20220625T213000
DTSTAMP:20260423T074117
CREATED:20220625T090547Z
LAST-MODIFIED:20250528T114705Z
UID:3568-1656183600-1656192600@nofilmnome.com
SUMMARY:活動|光孚影展：《世界上有一種孤獨叫沒有才華》\,《代幣》放映+導演座談
DESCRIPTION:活動資訊\n\n\n\n主辦單位：光孚影像、無影無蹤時間：6／25（六）19：00 開演地點：光孚咖啡（基隆路二段132巷15號1樓）放映影片和出席影人：\n\n\n\n《代幣》──蕭云美（導演）《代幣》──陳妤（演員）《代幣》──尤勝宏（演員） \n\n\n\n\n報名連結\n\n\n\n\n時間說明：\n（1）報名成功會以 E-MAIL 通知\n（2）pm.06:30 開始進場 - pm.07:00 活動開始\n（3）pm 20: 00 中場休息10分鐘\n\n\n\n\n\n\n\n蕭云美導演專題\n\n\n\n《代幣》演員陳妤、尤勝宏 驚喜出席\n\n\n\n在未來，沒有才華就該死？通不過才華審查的阿騰成了亡命之徒在2017年入選金馬影展，《世界上有一種孤獨叫沒有才華》再次重現江湖！身障者恬恬與店員小寶在一夜之中奮力一搏，譜寫最狂亂的青春戀曲陳妤與尤勝宏搏命演出，剪輯與視覺呈現再升級，年度神作《代幣》名不虛傳。屆時光孚影展將放映台灣新銳導演蕭云美的魔性力作除了導演，也將從演員視角深入台灣短片的可能性！只有一場，千萬別錯過。 \n\n\n\n\n\n\n\n放映作品介紹\n\n\n\n\n\n\n\n《世界上有一種孤獨叫沒有才華 No Talent\, No Future Taiwan》（2017）\n\n\n\n導演：蕭云美主演：夏騰宏、翁嘉薇簡介：這個世界，在三十歲前沒有通過才華審判的人就會被政府判處死刑。29歲的阿騰面臨絕境，他組織的非主流樂團簡直毫無才華，又眼見沒才華的父親淪為逃犯，他該認命，還是放手一搏？\n\n\n\n\n\n《世界上有一種孤獨叫沒有才華 No Talent\, No Future Taiwan》（2017）電影預告\n\n\n\n\n\n\n\n《代幣 Token》（2021）\n\n\n\n導演：蕭云美主演：陳妤、尤勝宏簡介：遊戲機台隨機抽號的格子出現相同的圖案，大量代幣鏘啷地落下，身障者恬恬與遊戲場店員小寶在這一夜中了遊戲機台的頭獎。正值對未來有無限幻想與憧憬的年紀，卻因現實與身體的障礙無法脫離困境，這筆代幣是他們對未來所握有的籌碼。\n\n\n\n\n\n《代幣 Token》（2021）電影預告\n\n\n\n\n\n\n\n與會嘉賓介紹\n\n\n\n\n\n\n\n●蕭云美\n\n\n\n簡介：出生於台灣彰化，畢業於台灣藝術大學電影學系，其作品《世界上有一種孤獨叫沒有才華》曾入選金馬影展短打單元，最新力作《代幣》曾入選金穗獎影展、女性影展。 \n\n\n\n●陳妤\n\n\n\n簡介：獲得金鐘獎戲劇節目新進演員獎。代表作亦包括《媽媽桌球》（2018）、《我們與惡的距離》（2019）、《可不可以，你也剛好喜歡我》（2020）、《月老》、（2021）等作。 \n\n\n\n●尤勝宏\n\n\n\n簡介：2012年曾在《阿罩霧風雲》中飾演演林獻堂一角，深受各界矚目。代表作亦包括《午夜陶德》（2017）、《無界限》（2018）等作。
URL:https://nofilmnome.com/event/photon-film-festival-20220625/
LOCATION:光孚咖啡\, 台北市大安區106 臺北市大安區基隆路二段132巷15號
CATEGORIES:光孚影展
ATTACH;FMTTYPE=image/jpeg:https://nofilmnome.com/wp-content/uploads/2022/06/287969054_744266053590082_2539917039047642389_n.jpeg
ORGANIZER;CN="%E5%85%89%E5%AD%9A%E5%BD%B1%E5%83%8F Photon Studio":MAILTO:photon@photonstudio.com.tw
END:VEVENT
BEGIN:VEVENT
DTSTART;TZID=Asia/Shanghai:20220617T193000
DTEND;TZID=Asia/Shanghai:20220617T220000
DTSTAMP:20260423T074117
CREATED:20220616T165905Z
LAST-MODIFIED:20250528T114726Z
UID:3506-1655494200-1655503200@nofilmnome.com
SUMMARY:活動|梅花鹿影展：《迷藏》\,《浮游》放映+導演座談
DESCRIPTION:活動資訊\n\n\n\n主辦單位：梅花鹿影業、無影無蹤時間：6／17（五）19：30 開演地點：梅花鹿影業（民生東路五段69巷2弄7號1樓）放映影片和出席影人：\n\n\n\n《迷藏》──郭玄奇（導演）《浮游》──尤寧（導演） \n\n\n\n本場分級：輔導級\n\n\n\n\n活動報名\n\n\n\n\n\n\n\n\n\n\n影片介紹\n\n\n\n《迷藏 Hidden》（2021）電影劇照\n\n\n\n《迷藏 Hidden》（2021）\n\n\n\n導演：郭玄奇編劇：郭玄奇主演：林宥綸、吳至璿、湯為軍、廖博彥參展、獲獎紀錄：\n\n\n\n☆21\, 舊金山同志影展☆21\, 韓國酷兒影展☆21\, 金穗獎最佳學生劇情片入圍☆21\, 台灣國際酷兒影展 \n\n\n\n簡介：13歲的小威總覺得與同齡少年格格不入，與好友品叡之間也存在著一道隔閡，同志交友軟體成了他唯一的生活慰藉。對情與慾仍然懞懂的他，決定跨出去與成年的男網友相約，完成屬於自己的成人式。演而優則導的郭玄奇選擇了罕有的少年同志題材，以精練的敘事語言，無可挑剔的演員調度，時時令觀者屏息，堪稱國內近年最優秀的短片創作之一。\n\n\n\n\nhttps://youtu.be/ZBbedMCINFY\n《迷藏 Hidden》（2021）電影預告\n\n\n\n\n\n\n\n\n\n《浮游 Doris》（2021）\n\n\n\n導演：尤寧編劇：尤寧主演：沈摯亞、邢謦顯\n\n\n\n簡介：少女Doris總愛闖進休館的泳池，獨自敞徉在自己的幻想世界。這天她遇上了一個不速之客，同樣不擅與人相處的金魚仔阿傑。兩條平行線自此有了交集。導演尤寧有效地利用寫實場景構築幻境，古靈精怪的角色設計，並以最低限的語言傳遞打動觀眾。深具靈性與活力的沈摯亞尤其成功地為主角Doris灌注能量，相當討喜。\n\n\n\n\n\n《浮游 Doris》（2021）電影預告\n\n\n\n\n\n\n\n限定參加人數：40人（越早報名越有機會報名成功喲！）\n報名費：150元（含影人出席費、場地使用費和飲料費用）\n\n\n\n活動流程\n\n\n\n19：00～19：30 進場時間19：30～20：00《迷藏》放映20：00～20：05 休息時間20：05～20：20《浮游》放映20：20～22：00 映後講座、Q&A、交流 \n\n\n\n\n\n\n\n\n\n\n\n活動後記\n\n\n\n週五晚間，由梅花鹿影業與無影無蹤合辦的梅花鹿影展，很榮幸邀請到兩部優質台灣作品的主創，《迷藏》導演郭玄奇與演員吳至璿和《浮游》導演尤寧與演員邢謦顯。題材迥異，但同樣精彩，現場觀眾迴響熱烈。 郭玄奇知道《迷藏》畢竟是一部關於少年性探索的題材，所以選角不易，但也萬萬沒想到最後甚至差一點找不到人演，差一點妥協更改劇本。在萬念俱灰下，他在買手搖杯時瞥見了電視上的電競廣告，看著畫面上的林宥綸，他心裡喊了聲「小威」，直覺他就是第一人選。隨後有如神助般，他回家馬上又發現合作過的演員謝飛與宥綸的合照，馬上著手聯繫，敲定人選。 為了劇本創作，郭玄奇潛入各個同志社交平台，發現果然有海量未成年在上頭出沒，其中不乏大膽聊色、傳裸照的弟弟。經過一些訪問，《迷藏》的劇本逐漸成形。他隨後也找來曾經合作過短片《飛》（2018）的演員吳至璿一同合作，由於兩人相識已久，至璿的家人完全信任導演的安排。表演經驗豐富的至璿也說相比與許多導演的合作經驗，與郭玄奇的合作其實相當放鬆，甚至還允許他在最後關鍵戲碼之前去補眠，讓他自己找到對的感覺。 尤寧打趣地說，自己從小就喜歡上那種「違反普世價值長相的男生」，常常給朋友虧，所以《浮游》的女主角Doris完全就是她個人形象的翻版。也因為看到太多人畢業製作都拍家庭戲之類的題材，她非要反其道而行，拍攝一部15分鐘不到的愛情作品，而且淡化語言的使用。 在劇本階段，她就設定故事的重要元素是金魚，當她見到沈摯亞時，更驚嘆擁有獨特美貌的她，竟然與金魚有一點相像，對她而言簡直完美。加上沈摯亞本身有豐富的模特兒經驗，所以任何鮮活的表情與動作都難不倒她。至於找上邢謦顯，是因為他在試鏡時竟無視警衛，將機車騎進校園，對尤寧而言，邢謦顯就是阿傑。而邢謦顯則說自己當時表演經驗很有限，現在回想起來，還是覺得尤寧給予的導演指示最為精準有力。 談到未來，尤寧表示自己目前暫時還在等待適合的題材，以累積人生經驗為先；在業界擁有多重身分的郭玄奇則說自己還在思考下一部短片的題目，但他目前依然會在劇場等不同領域給各位帶來新的作品。邢謦顯與吳至璿都依然持續精進表演工作，吳至璿表示在看了沈摯亞的演出之後覺得實在感佩萬分，覺得自己深受鼓舞，希望有興趣找他演戲的朋友可以加他媽媽的line（哄堂大笑）。 最後，誠摯感謝梅花鹿影業同仁、兩部作品主創以及所有撥冗前來的觀眾，有你們的支持，才能讓梅花鹿影展持續推進下去。一樣，我們下個月見！ 無影無蹤 翁煌德
URL:https://nofilmnome.com/event/sika-film-festival-20220617/
LOCATION:梅花鹿影業\, 台北市松山區民生東路五段69巷2弄7號
CATEGORIES:梅花鹿影展
ATTACH;FMTTYPE=image/jpeg:https://nofilmnome.com/wp-content/uploads/2022/06/285228171_583253549824225_8678137431524933965_n.jpeg
ORGANIZER;CN="%E6%A2%85%E8%8A%B1%E9%B9%BF%E5%BD%B1%E6%A5%AD%E8%82%A1%E4%BB%BD%E6%9C%89%E9%99%90%E5%85%AC%E5%8F%B8":MAILTO:sikafilmstw@gmail.com
END:VEVENT
END:VCALENDAR